BEGIN:VCALENDAR
VERSION:2.0
PRODID:-//McLean County Ag in the Classroom - ECPv6.15.20//NONSGML v1.0//EN
CALSCALE:GREGORIAN
METHOD:PUBLISH
X-WR-CALNAME:McLean County Ag in the Classroom
X-ORIGINAL-URL:https://www.mcleanaitc.org
X-WR-CALDESC:Events for McLean County Ag in the Classroom
REFRESH-INTERVAL;VALUE=DURATION:PT1H
X-Robots-Tag:noindex
X-PUBLISHED-TTL:PT1H
BEGIN:VTIMEZONE
TZID:UTC
BEGIN:STANDARD
TZOFFSETFROM:+0000
TZOFFSETTO:+0000
TZNAME:UTC
DTSTART:20190101T000000
END:STANDARD
END:VTIMEZONE
BEGIN:VEVENT
DTSTART;TZID=UTC:20201001T130000
DTEND;TZID=UTC:20201001T140000
DTSTAMP:20260423T103329
CREATED:20200908T194041Z
LAST-MODIFIED:20200908T194042Z
UID:2223-1601557200-1601560800@www.mcleanaitc.org
SUMMARY:Virtual Field Trip: Pumpkin Farm
DESCRIPTION:Illinois Ag in the Classroom will host a virtual field trip to Heap’s Giant Pumpkin Farm near Minooka\, IL Oct. 1 at 1 p.m. \nYour class can watch live or watch the recording later. \nClick here to register for the Zoom link. \nShare this:Share\n				Email a link to a friend (Opens in new window)\n				Email\n			\n				Share on Facebook (Opens in new window)\n				Facebook\n			\n				Share on X (Opens in new window)\n				X\n			\n				Share on Pinterest (Opens in new window)\n				Pinterest\n			\n				Share on Tumblr (Opens in new window)\n				Tumblr\n			\n				Share on Reddit (Opens in new window)\n				Reddit\n			\n				Share on LinkedIn (Opens in new window)\n				LinkedIn
URL:https://www.mcleanaitc.org/event/virtual-field-trip-pumpkin-farm/
END:VEVENT
END:VCALENDAR