BEGIN:VCALENDAR
VERSION:2.0
PRODID:-//McLean County Ag in the Classroom - ECPv6.15.20//NONSGML v1.0//EN
CALSCALE:GREGORIAN
METHOD:PUBLISH
X-WR-CALNAME:McLean County Ag in the Classroom
X-ORIGINAL-URL:https://www.mcleanaitc.org
X-WR-CALDESC:Events for McLean County Ag in the Classroom
REFRESH-INTERVAL;VALUE=DURATION:PT1H
X-Robots-Tag:noindex
X-PUBLISHED-TTL:PT1H
BEGIN:VTIMEZONE
TZID:UTC
BEGIN:STANDARD
TZOFFSETFROM:+0000
TZOFFSETTO:+0000
TZNAME:UTC
DTSTART:20200101T000000
END:STANDARD
END:VTIMEZONE
BEGIN:VEVENT
DTSTART;TZID=UTC:20210319T163000
DTEND;TZID=UTC:20210319T163000
DTSTAMP:20260424T004015
CREATED:20210119T224425Z
LAST-MODIFIED:20210119T224425Z
UID:2420-1616171400-1616171400@www.mcleanaitc.org
SUMMARY:Chick It Out Registration Deadline
DESCRIPTION:Chick It Out! University of IL Extension offers a great hands-on learning opportunity for McLean County\, IL students with the Chick It Out Spring 2021 Hatch! \nTeachers can register to receive 1 dozen fertilized chicken eggs from the U of IL campus\,  research-based embryology curriculum & all the supplies needed for a successful learning experience. \nIncubators\, egg turners\, candlers and more can be checked out from the Extension office. \n\nRegistration: Tuesday\, January 5 – Friday\, March 19\nEmbryology Teacher Workshop: Tuesday\, March 30th\, 4 – 5:30 p.m. (For workshop registration\, click here)\nEarly Equipment pick-up (optional): Tuesday\, March 30th\, 12:30-5:30 p.m.\nEgg pick-up: Tuesday\, April 6\, from 12:30 – 5 p.m.\nChick drop-off: Friday\, April 30th\, 8 a.m. – 4 p.m. (The office is closed 11:30 – 12:30)\n\n**Equipment/egg pick-up and equipment/chick drop-off is at the McLean County Extension Office located at 1615 Commerce Parkway Bloomington\, IL 61705)** \nClick here to register for the Spring 2021 “Chick It Out” program. Registration deadline is Friday\, March 19\, 2021. \nShare this:Share\n				Email a link to a friend (Opens in new window)\n				Email\n			\n				Share on Facebook (Opens in new window)\n				Facebook\n			\n				Share on X (Opens in new window)\n				X\n			\n				Share on Pinterest (Opens in new window)\n				Pinterest\n			\n				Share on Tumblr (Opens in new window)\n				Tumblr\n			\n				Share on Reddit (Opens in new window)\n				Reddit\n			\n				Share on LinkedIn (Opens in new window)\n				LinkedIn
URL:https://www.mcleanaitc.org/event/chick-it-out-registration-deadline-2/
END:VEVENT
END:VCALENDAR