BEGIN:VCALENDAR
VERSION:2.0
PRODID:-//McLean County Ag in the Classroom - ECPv6.15.20//NONSGML v1.0//EN
CALSCALE:GREGORIAN
METHOD:PUBLISH
X-WR-CALNAME:McLean County Ag in the Classroom
X-ORIGINAL-URL:https://www.mcleanaitc.org
X-WR-CALDESC:Events for McLean County Ag in the Classroom
REFRESH-INTERVAL;VALUE=DURATION:PT1H
X-Robots-Tag:noindex
X-PUBLISHED-TTL:PT1H
BEGIN:VTIMEZONE
TZID:UTC
BEGIN:STANDARD
TZOFFSETFROM:+0000
TZOFFSETTO:+0000
TZNAME:UTC
DTSTART:20200101T000000
END:STANDARD
END:VTIMEZONE
BEGIN:VEVENT
DTSTART;VALUE=DATE:20210608
DTEND;VALUE=DATE:20210612
DTSTAMP:20260424T031618
CREATED:20210503T180745Z
LAST-MODIFIED:20210503T212416Z
UID:2467-1623110400-1623455999@www.mcleanaitc.org
SUMMARY:Summer AITC Teacher Workshop
DESCRIPTION:Join us June 8-11 for our 2021 Summer AITC Workshop for Teachers! \n\n4 Days of field trips\, tours & hands on lesson ideas\nGeared for pre-K to grade 12 educators\nEarn 30 PDCHs (professional development clock hours)\, plus 2 graduate level college credit hours available (optional/additional fee)\nLearn about FREE resources for STEM lessons aligned with Common Core & Next Generation Science Standards\nTake home lesson ideas\, materials & grant opportunities for use in your classroom next year!\n\nCost is $50 for the workshop. \nTuition for 2 hours of Graduate Credit from St. Francis University is $200 \n(Course #REAL 694 R Agriscience Educator Institute) \nInstructors: Bridget Caldwell\, McLean County Ag in the Classroom Coordinator & Katie Buckley\, University of Illinois Extension \nPlease note: \n\nTeachers will be responsible for their own transportation to field trip/tour locations\, you can arrange your own carpool if desired\nMasks & social distancing measures may be in place as per health department guidelines\n\nRegistration deadline May 28\, 2021 \nClick here to register \nShare this:Share\n				Email a link to a friend (Opens in new window)\n				Email\n			\n				Share on Facebook (Opens in new window)\n				Facebook\n			\n				Share on X (Opens in new window)\n				X\n			\n				Share on Pinterest (Opens in new window)\n				Pinterest\n			\n				Share on Tumblr (Opens in new window)\n				Tumblr\n			\n				Share on Reddit (Opens in new window)\n				Reddit\n			\n				Share on LinkedIn (Opens in new window)\n				LinkedIn
URL:https://www.mcleanaitc.org/event/summer-aitc-teacher-workshop/
ATTACH;FMTTYPE=image/png:https://www.mcleanaitc.org/wp-content/uploads/2021/04/21-551-Fields-of-Opportunity-Color.png
END:VEVENT
BEGIN:VEVENT
DTSTART;TZID=UTC:20210608T090000
DTEND;TZID=UTC:20210608T100000
DTSTAMP:20260424T031618
CREATED:20210521T164949Z
LAST-MODIFIED:20210521T200145Z
UID:2492-1623142800-1623146400@www.mcleanaitc.org
SUMMARY:Virtual Teacher Training: Natural Resources
DESCRIPTION:Join Illinois Ag in the Classroom for two one hour virtual session focused on Natural Resources. The FREE sessions are at 9 a.m. on Tuesday\, June 8 and Tuesday\, June 15. \nThose who attend the first session and fill out a reflection will be mailed a box of goodies for the “interactive” session on June 15. Limited to the first 50 who submit a reflection. \nRegister here. \nShare this:Share\n				Email a link to a friend (Opens in new window)\n				Email\n			\n				Share on Facebook (Opens in new window)\n				Facebook\n			\n				Share on X (Opens in new window)\n				X\n			\n				Share on Pinterest (Opens in new window)\n				Pinterest\n			\n				Share on Tumblr (Opens in new window)\n				Tumblr\n			\n				Share on Reddit (Opens in new window)\n				Reddit\n			\n				Share on LinkedIn (Opens in new window)\n				LinkedIn
URL:https://www.mcleanaitc.org/event/virtual-teacher-training-natural-resources/
CATEGORIES:Teacher Workshops
ATTACH;FMTTYPE=image/png:https://www.mcleanaitc.org/wp-content/uploads/2021/05/Block-1-Natural-Resources.png
END:VEVENT
END:VCALENDAR