BEGIN:VCALENDAR
VERSION:2.0
PRODID:-//McLean County Ag in the Classroom - ECPv6.15.20//NONSGML v1.0//EN
CALSCALE:GREGORIAN
METHOD:PUBLISH
X-WR-CALNAME:McLean County Ag in the Classroom
X-ORIGINAL-URL:https://www.mcleanaitc.org
X-WR-CALDESC:Events for McLean County Ag in the Classroom
REFRESH-INTERVAL;VALUE=DURATION:PT1H
X-Robots-Tag:noindex
X-PUBLISHED-TTL:PT1H
BEGIN:VTIMEZONE
TZID:UTC
BEGIN:STANDARD
TZOFFSETFROM:+0000
TZOFFSETTO:+0000
TZNAME:UTC
DTSTART:20210101T000000
END:STANDARD
END:VTIMEZONE
BEGIN:VEVENT
DTSTART;TZID=UTC:20220916T080000
DTEND;TZID=UTC:20221014T170000
DTSTAMP:20260425T103758
CREATED:20220916T152422Z
LAST-MODIFIED:20220916T152422Z
UID:2945-1663315200-1665766800@www.mcleanaitc.org
SUMMARY:Grants Available From Illinois Ag in the Classroom
DESCRIPTION:The deadline is approaching for two grant opportunities available from Illinois Ag in the Classroom. The first is a $250 Book Grant and the second is a $300 Project Grant. The application deadline for both grants is Friday\, October 14\, 2022. Winning teacher will be notified via email on or before November 11\, 2022. \nShare this:Share\n				Email a link to a friend (Opens in new window)\n				Email\n			\n				Share on Facebook (Opens in new window)\n				Facebook\n			\n				Share on X (Opens in new window)\n				X\n			\n				Share on Pinterest (Opens in new window)\n				Pinterest\n			\n				Share on Tumblr (Opens in new window)\n				Tumblr\n			\n				Share on Reddit (Opens in new window)\n				Reddit\n			\n				Share on LinkedIn (Opens in new window)\n				LinkedIn
URL:https://www.mcleanaitc.org/event/grants-available-from-illinois-ag-in-the-classroom/
END:VEVENT
END:VCALENDAR