BEGIN:VCALENDAR
VERSION:2.0
PRODID:-//McLean County Ag in the Classroom - ECPv6.15.20//NONSGML v1.0//EN
CALSCALE:GREGORIAN
METHOD:PUBLISH
X-WR-CALNAME:McLean County Ag in the Classroom
X-ORIGINAL-URL:https://www.mcleanaitc.org
X-WR-CALDESC:Events for McLean County Ag in the Classroom
REFRESH-INTERVAL;VALUE=DURATION:PT1H
X-Robots-Tag:noindex
X-PUBLISHED-TTL:PT1H
BEGIN:VTIMEZONE
TZID:UTC
BEGIN:STANDARD
TZOFFSETFROM:+0000
TZOFFSETTO:+0000
TZNAME:UTC
DTSTART:20190101T000000
END:STANDARD
END:VTIMEZONE
BEGIN:VEVENT
DTSTART;VALUE=DATE:20201119
DTEND;VALUE=DATE:20201120
DTSTAMP:20260423T134147
CREATED:20201113T194533Z
LAST-MODIFIED:20201113T194533Z
UID:2270-1605744000-1605830399@www.mcleanaitc.org
SUMMARY:Illinois Family Reading Night
DESCRIPTION:Check out these activities & snack recipes for a fun Family Reading Night! Find links to books you can read online or watch as a read-a-loud plus kid-friendly snack recipes & activities. \nPumpkins \n\nBooks: The Pumpkin Book by Gail Gibbons\nSnacks: Pumpkin Bread or Baked Pumpkin Seeds\nMore Pumpkin Activities\n\nDairy \n\nBooks: Milk Makers by Gail Gibbons\nSnack: Ice Cream in a Bag\nRead a-louds: Tales of the Dairy Godmother by Viola Butler\nMore Dairy Activities\n\nWheat \n\nBooks: Everybody Bakes Bread by Norah Dooley\nSnack: Bread in a Bag\nMore Wheat Activities\n\nPopcorn \n\nBooks: The Popcorn Book by Tomie dePaola\nSnack: Microwave Caramel Popcorn\nActivities: Popcorn Bookmark\n\nFarm to Table: \n\nRead-a-loud: Right this Very Minute by Lisl H. Detlefsen\nSnack: Trail Mix\nActivities: Start to Finish Matching\n\nApples: \n\nBooks: Apples by Gail Gibbons\nSnack: Apple Smiles\nMore Apple Activities\n\nFind more Family Reading Night Party Ideas here. \nShare this:Share\n				Email a link to a friend (Opens in new window)\n				Email\n			\n				Share on Facebook (Opens in new window)\n				Facebook\n			\n				Share on X (Opens in new window)\n				X\n			\n				Share on Pinterest (Opens in new window)\n				Pinterest\n			\n				Share on Tumblr (Opens in new window)\n				Tumblr\n			\n				Share on Reddit (Opens in new window)\n				Reddit\n			\n				Share on LinkedIn (Opens in new window)\n				LinkedIn
URL:https://www.mcleanaitc.org/event/illinois-family-reading-night/
ATTACH;FMTTYPE=image/jpeg:https://www.mcleanaitc.org/wp-content/uploads/2020/11/123849694_10157917578415678_5333415273216869368_o-e1605296709651.jpg
END:VEVENT
END:VCALENDAR