BEGIN:VCALENDAR
VERSION:2.0
PRODID:-//McLean County Ag in the Classroom - ECPv6.15.20//NONSGML v1.0//EN
CALSCALE:GREGORIAN
METHOD:PUBLISH
X-WR-CALNAME:McLean County Ag in the Classroom
X-ORIGINAL-URL:https://www.mcleanaitc.org
X-WR-CALDESC:Events for McLean County Ag in the Classroom
REFRESH-INTERVAL;VALUE=DURATION:PT1H
X-Robots-Tag:noindex
X-PUBLISHED-TTL:PT1H
BEGIN:VTIMEZONE
TZID:UTC
BEGIN:STANDARD
TZOFFSETFROM:+0000
TZOFFSETTO:+0000
TZNAME:UTC
DTSTART:20200101T000000
END:STANDARD
END:VTIMEZONE
BEGIN:VEVENT
DTSTART;TZID=UTC:20210114T130000
DTEND;TZID=UTC:20210114T140000
DTSTAMP:20260423T165230
CREATED:20210111T215821Z
LAST-MODIFIED:20210111T215821Z
UID:2395-1610629200-1610632800@www.mcleanaitc.org
SUMMARY:Dairy Farm Virtual Field Trip
DESCRIPTION:Join Illinois Agriculture in the Classroom and Midwest Dairy on our virtual farm field trip this Thursday\, January 14 at 1:00 p.m. We’re excited to livestream the entire trip from Lenkaitis Holsteins! Sign up to learn how to join on Zoom and YouTube Live. https://iaitc.co/dairytrip \nShare this:Share\n				Email a link to a friend (Opens in new window)\n				Email\n			\n				Share on Facebook (Opens in new window)\n				Facebook\n			\n				Share on X (Opens in new window)\n				X\n			\n				Share on Pinterest (Opens in new window)\n				Pinterest\n			\n				Share on Tumblr (Opens in new window)\n				Tumblr\n			\n				Share on Reddit (Opens in new window)\n				Reddit\n			\n				Share on LinkedIn (Opens in new window)\n				LinkedIn
URL:https://www.mcleanaitc.org/event/dairy-farm-virtual-field-trip/
ATTACH;FMTTYPE=image/png:https://www.mcleanaitc.org/wp-content/uploads/2021/01/1d21013f-def1-4dcb-9e97-dcd112d60b22.png
END:VEVENT
BEGIN:VEVENT
DTSTART;TZID=UTC:20210120T123000
DTEND;TZID=UTC:20210120T133000
DTSTAMP:20260423T165230
CREATED:20201223T204323Z
LAST-MODIFIED:20201223T204323Z
UID:2360-1611145800-1611149400@www.mcleanaitc.org
SUMMARY:Football Virtual Field Trip
DESCRIPTION:Join IL Ag in the Classroom for this special virtual field trip to the Pro Football Hall of Fame! We will learn all about the various connections between sports and agriculture\, and we’ll learn the history behind some special sports artifacts! \nSign up for the Zoom Webinar links here: https://iaitc.co/fieldtrips \nShare this:Share\n				Email a link to a friend (Opens in new window)\n				Email\n			\n				Share on Facebook (Opens in new window)\n				Facebook\n			\n				Share on X (Opens in new window)\n				X\n			\n				Share on Pinterest (Opens in new window)\n				Pinterest\n			\n				Share on Tumblr (Opens in new window)\n				Tumblr\n			\n				Share on Reddit (Opens in new window)\n				Reddit\n			\n				Share on LinkedIn (Opens in new window)\n				LinkedIn
URL:https://www.mcleanaitc.org/event/football-virtual-field-trip/
ATTACH;FMTTYPE=image/png:https://www.mcleanaitc.org/wp-content/uploads/2020/12/4.png
END:VEVENT
END:VCALENDAR