BEGIN:VCALENDAR
VERSION:2.0
PRODID:-//McLean County Ag in the Classroom - ECPv6.15.20//NONSGML v1.0//EN
CALSCALE:GREGORIAN
METHOD:PUBLISH
X-WR-CALNAME:McLean County Ag in the Classroom
X-ORIGINAL-URL:https://www.mcleanaitc.org
X-WR-CALDESC:Events for McLean County Ag in the Classroom
REFRESH-INTERVAL;VALUE=DURATION:PT1H
X-Robots-Tag:noindex
X-PUBLISHED-TTL:PT1H
BEGIN:VTIMEZONE
TZID:UTC
BEGIN:STANDARD
TZOFFSETFROM:+0000
TZOFFSETTO:+0000
TZNAME:UTC
DTSTART:20200101T000000
END:STANDARD
END:VTIMEZONE
BEGIN:VEVENT
DTSTART;TZID=UTC:20210706T090000
DTEND;TZID=UTC:20210706T100000
DTSTAMP:20260424T075025
CREATED:20210521T165730Z
LAST-MODIFIED:20210521T170253Z
UID:2500-1625562000-1625565600@www.mcleanaitc.org
SUMMARY:Virtual Teacher Training: Row Crops
DESCRIPTION:Learn about our top crops in Illinois – row crops like corn & soybeans with two one hour virtual sessions. These FREE sessions are at 9 a.m. on Tuesday\, July 6 and Tuesday\, July 13. \nThose who attend the first session and fill out a reflection will be mailed a box of goodies for the “interactive” session on July 13. Limited to the first 50 who submit a reflection. \nRegister here. \nShare this:Share\n				Email a link to a friend (Opens in new window)\n				Email\n			\n				Share on Facebook (Opens in new window)\n				Facebook\n			\n				Share on X (Opens in new window)\n				X\n			\n				Share on Pinterest (Opens in new window)\n				Pinterest\n			\n				Share on Tumblr (Opens in new window)\n				Tumblr\n			\n				Share on Reddit (Opens in new window)\n				Reddit\n			\n				Share on LinkedIn (Opens in new window)\n				LinkedIn
URL:https://www.mcleanaitc.org/event/virtual-teacher-training-row-crops/
ATTACH;FMTTYPE=image/png:https://www.mcleanaitc.org/wp-content/uploads/2021/05/Block-3-Row-Crops.png
END:VEVENT
BEGIN:VEVENT
DTSTART;TZID=UTC:20210720T090000
DTEND;TZID=UTC:20210720T100000
DTSTAMP:20260424T075025
CREATED:20210521T170223Z
LAST-MODIFIED:20210521T170223Z
UID:2504-1626771600-1626775200@www.mcleanaitc.org
SUMMARY:Virtual Teacher Training: Specialty Crops
DESCRIPTION:Fruits\, veggies\, herbs & flowers – Illinois grows lots of specialty crops. \nJoin Illinois Ag in the Classroom for two one hour virtual session focused on specialty crops. The FREE sessions are at 9 a.m. on Tuesday\, July 20 and Tuesday\, July 27. \nThose who attend the first session and fill out a reflection will be mailed a box of goodies for the “interactive” session on July 27. Limited to the first 50 who submit a reflection. \nRegister here. \nShare this:Share\n				Email a link to a friend (Opens in new window)\n				Email\n			\n				Share on Facebook (Opens in new window)\n				Facebook\n			\n				Share on X (Opens in new window)\n				X\n			\n				Share on Pinterest (Opens in new window)\n				Pinterest\n			\n				Share on Tumblr (Opens in new window)\n				Tumblr\n			\n				Share on Reddit (Opens in new window)\n				Reddit\n			\n				Share on LinkedIn (Opens in new window)\n				LinkedIn
URL:https://www.mcleanaitc.org/event/virtual-teacher-training-specialty-crops/
CATEGORIES:Teacher Workshops
ATTACH;FMTTYPE=image/png:https://www.mcleanaitc.org/wp-content/uploads/2021/05/Block-4-Specialty-Crops.png
END:VEVENT
END:VCALENDAR