BEGIN:VCALENDAR
VERSION:2.0
PRODID:-//McLean County Ag in the Classroom - ECPv6.15.20//NONSGML v1.0//EN
CALSCALE:GREGORIAN
METHOD:PUBLISH
X-WR-CALNAME:McLean County Ag in the Classroom
X-ORIGINAL-URL:https://www.mcleanaitc.org
X-WR-CALDESC:Events for McLean County Ag in the Classroom
REFRESH-INTERVAL;VALUE=DURATION:PT1H
X-Robots-Tag:noindex
X-PUBLISHED-TTL:PT1H
BEGIN:VTIMEZONE
TZID:UTC
BEGIN:STANDARD
TZOFFSETFROM:+0000
TZOFFSETTO:+0000
TZNAME:UTC
DTSTART:20200101T000000
END:STANDARD
END:VTIMEZONE
BEGIN:VEVENT
DTSTART;TZID=UTC:20211103T160000
DTEND;TZID=UTC:20211103T170000
DTSTAMP:20260424T171140
CREATED:20210915T215801Z
LAST-MODIFIED:20210915T215801Z
UID:2685-1635955200-1635958800@www.mcleanaitc.org
SUMMARY:Virtual Teacher Training: Dairy and Pork
DESCRIPTION:Join IL Ag in the Classroom for their second professional development training of the 2021-22 school year. In the After School S.N.A.C.K. (Sharing New Ag Content & Knowledge)\, participants will learn more about Dairy and Pork production in Illinois. \nParticipants can request PDCH from their school district using the completion certificate. \nRegister here \nShare this:Share\n				Email a link to a friend (Opens in new window)\n				Email\n			\n				Share on Facebook (Opens in new window)\n				Facebook\n			\n				Share on X (Opens in new window)\n				X\n			\n				Share on Pinterest (Opens in new window)\n				Pinterest\n			\n				Share on Tumblr (Opens in new window)\n				Tumblr\n			\n				Share on Reddit (Opens in new window)\n				Reddit\n			\n				Share on LinkedIn (Opens in new window)\n				LinkedIn
URL:https://www.mcleanaitc.org/event/virtual-teacher-training-dairy-and-pork/
ATTACH;FMTTYPE=image/png:https://www.mcleanaitc.org/wp-content/uploads/2021/09/21_Nov_AfterSchoolSnack.png
END:VEVENT
BEGIN:VEVENT
DTSTART;TZID=UTC:20211117T160000
DTEND;TZID=UTC:20211117T170000
DTSTAMP:20260424T171140
CREATED:20211109T155846Z
LAST-MODIFIED:20211111T190723Z
UID:2748-1637164800-1637168400@www.mcleanaitc.org
SUMMARY:Virtual Teacher Training: IL History
DESCRIPTION:Join IL Ag in the Classroom for a virtual teacher training! In this After School S.N.A.C.K. (Sharing New Ag Content & Knowledge) webinar\, participants will learn more about Illinois History and connections to Ag. \nParticipants can request PDCH from their school district using the completion certificate. \nRegister here \nShare this:Share\n				Email a link to a friend (Opens in new window)\n				Email\n			\n				Share on Facebook (Opens in new window)\n				Facebook\n			\n				Share on X (Opens in new window)\n				X\n			\n				Share on Pinterest (Opens in new window)\n				Pinterest\n			\n				Share on Tumblr (Opens in new window)\n				Tumblr\n			\n				Share on Reddit (Opens in new window)\n				Reddit\n			\n				Share on LinkedIn (Opens in new window)\n				LinkedIn
URL:https://www.mcleanaitc.org/event/virtual-teacher-training-il-history/
END:VEVENT
BEGIN:VEVENT
DTSTART;VALUE=DATE:20211119
DTEND;VALUE=DATE:20211120
DTSTAMP:20260424T171140
CREATED:20211110T170539Z
LAST-MODIFIED:20211110T170539Z
UID:2757-1637280000-1637366399@www.mcleanaitc.org
SUMMARY:Maitland Ag Awareness Grant Deadline
DESCRIPTION:McLean County teachers can apply for a grant up to $1\,000 to incorporate agriculture in their classroom. \nApplications are accepted October 4 – November 19\, 2021. \nSince 2002\, University of Illinois Extension and the family of retired Illinois Senator John Maitland have sponsored this grant in his honor. \nClick here for details & to apply. \nShare this:Share\n				Email a link to a friend (Opens in new window)\n				Email\n			\n				Share on Facebook (Opens in new window)\n				Facebook\n			\n				Share on X (Opens in new window)\n				X\n			\n				Share on Pinterest (Opens in new window)\n				Pinterest\n			\n				Share on Tumblr (Opens in new window)\n				Tumblr\n			\n				Share on Reddit (Opens in new window)\n				Reddit\n			\n				Share on LinkedIn (Opens in new window)\n				LinkedIn
URL:https://www.mcleanaitc.org/event/maitland-ag-awareness-grant-deadline/
END:VEVENT
END:VCALENDAR